BEGIN:VCALENDAR
VERSION:2.0
PRODID:-//Squarespace Inc/Squarespace 6//v6//EN
BEGIN:VEVENT
UID:696daf17346ba17836fe32de@squarespace.com
DTSTAMP:20260119T041723Z
DTSTART:20260615T130000Z
DTEND:20260619T163000Z
SUMMARY:Acrobatics Intensive
GEO:0.0;0.0
LOCATION:That's Dancing\, 6169 JOG ROAD A-15\, LAKE WORTH\, FL 33467\, Unit
 ed States
END:VEVENT
END:VCALENDAR
