BEGIN:VCALENDAR
VERSION:2.0
PRODID:-//Squarespace Inc/Squarespace 6//v6//EN
BEGIN:VEVENT
UID:6966871206e845274488c517@squarespace.com
DTSTAMP:20260113T180002Z
DTSTART:20260716T170000Z
DTEND:20260716T180000Z
SUMMARY:ACRO ARTS TEACHER TRAINING / REGISTER DIRECT WITH ACRO ARTS
GEO:0.0;0.0
LOCATION:That's Dancing\, 6169 JOG ROAD A-15\, LAKE WORTH\, FL 33467\, Unit
 ed States
END:VEVENT
END:VCALENDAR
